BEGIN:VCALENDAR
VERSION:2.0
METHOD:PUBLISH
BEGIN:VEVENT
DTSTART:20251213T084900Z
DTEND:20251216T033000Z
LOCATION:Arlington Heights, IL 60005
TRANSP: OPAQUE
SEQUENCE:0
UID:
DTSTAMP:20260421T105926Z
SUMMARY:Vintage, Collectibles, New Items, Etc
DESCRIPTION:Vintage, Collectibles, New Items, Etc Denotter Auctions 
UID:1776790766
STREET-ADDRESS:See website
POSTAL-CODE:60005
LOCALITY:Arlington Heights
REGION:ABBREV=IL
COUNTRY:ABBREV=US;ABBREV=USA:United States
URL;TYPE=Event Listing:https://estatesales.org/estate-sales/il/arlington-heights/60005/vintage-collectibles-new-items-etc-2417640
PRIORITY:1
CLASS:PUBLIC
SEQUENCE:0
STATUS:CONFIRMED
TRANSP:OPAQUE
END:VEVENT
END:VCALENDAR
