BEGIN:VCALENDAR
VERSION:2.0
METHOD:PUBLISH
BEGIN:VEVENT
DTSTART:20241213T130000Z
DTEND:20241214T180000Z
LOCATION:Safety Harbor, FL 34695
TRANSP: OPAQUE
SEQUENCE:0
UID:
DTSTAMP:20260423T094743Z
SUMMARY:Baby Boomers Safety Harbor Estate Sale
DESCRIPTION:Baby Boomers Safety Harbor Estate Sale Baby Boomers Estate Sales 
UID:1776959263
STREET-ADDRESS:See website
POSTAL-CODE:34695
LOCALITY:Safety Harbor
REGION:ABBREV=FL
COUNTRY:ABBREV=US;ABBREV=USA:United States
URL;TYPE=Event Listing:https://estatesales.org/estate-sales/fl/safety-harbor/34695/baby-boomers-safety-harbor-estate-2352997
PRIORITY:1
CLASS:PUBLIC
SEQUENCE:0
STATUS:CONFIRMED
TRANSP:OPAQUE
END:VEVENT
END:VCALENDAR
