BEGIN:VCALENDAR
VERSION:2.0
METHOD:PUBLISH
BEGIN:VEVENT
DTSTART:20191213T170000Z
DTEND:20191215T220000Z
LOCATION:Leander, TX 78645
TRANSP: OPAQUE
SEQUENCE:0
UID:
DTSTAMP:20260424T121918Z
SUMMARY:Treasures On Lago Vista Golf Course
DESCRIPTION:Treasures On Lago Vista Golf Course Past 2 Present Estate Sale Service 
UID:1777054758
STREET-ADDRESS:See website
POSTAL-CODE:78645
LOCALITY:Leander
REGION:ABBREV=TX
COUNTRY:ABBREV=US;ABBREV=USA:United States
URL;TYPE=Event Listing:https://estatesales.org/estate-sales/tx/lago-vista/78645/treasures-on-lago-vista-golf-1742765
PRIORITY:1
CLASS:PUBLIC
SEQUENCE:0
STATUS:CONFIRMED
TRANSP:OPAQUE
END:VEVENT
END:VCALENDAR
