BEGIN:VCALENDAR
VERSION:2.0
METHOD:PUBLISH
BEGIN:VEVENT
DTSTART:20191213T140000Z
DTEND:20191215T210000Z
LOCATION:High Point, NC 27263
TRANSP: OPAQUE
SEQUENCE:0
UID:
DTSTAMP:20260421T195424Z
SUMMARY:JAM PACKED! Picker Sale Extravaganza (On-Site)
DESCRIPTION:JAM PACKED! Picker Sale Extravaganza (On-Site) New World Estate Sales 
UID:1776822864
STREET-ADDRESS:See website
POSTAL-CODE:27263
LOCALITY:High Point
REGION:ABBREV=NC
COUNTRY:ABBREV=US;ABBREV=USA:United States
URL;TYPE=Event Listing:https://estatesales.org/estate-sales/nc/high-point/27263/jam-packed-picker-sale-extravaganza-1748671
PRIORITY:1
CLASS:PUBLIC
SEQUENCE:0
STATUS:CONFIRMED
TRANSP:OPAQUE
END:VEVENT
END:VCALENDAR
