BEGIN:VCALENDAR
VERSION:2.0
METHOD:PUBLISH
BEGIN:VEVENT
DTSTART:20191213T150000Z
DTEND:20191214T210000Z
LOCATION:Frankfort, IL 60423
TRANSP: OPAQUE
SEQUENCE:0
UID:
DTSTAMP:20260420T165437Z
SUMMARY:Nobil's Frankfort Estate Sale!
DESCRIPTION:Nobil's Frankfort Estate Sale! Nobil Estate Sales 
UID:1776725677
STREET-ADDRESS:See website
POSTAL-CODE:60423
LOCALITY:Frankfort
REGION:ABBREV=IL
COUNTRY:ABBREV=US;ABBREV=USA:United States
URL;TYPE=Event Listing:https://estatesales.org/estate-sales/il/frankfort/60423/nobils-frankfort-estate-sale-1748573
PRIORITY:1
CLASS:PUBLIC
SEQUENCE:0
STATUS:CONFIRMED
TRANSP:OPAQUE
END:VEVENT
END:VCALENDAR
