BEGIN:VCALENDAR
VERSION:2.0
METHOD:PUBLISH
BEGIN:VEVENT
DTSTART:20251212T170000Z
DTEND:20251215T000000Z
LOCATION:Sacramento, CA 95831
TRANSP: OPAQUE
SEQUENCE:0
UID:
DTSTAMP:20260422T062332Z
SUMMARY:Korean & Japanese home decor & so much more…
DESCRIPTION:Korean & Japanese home decor & so much more… Amelia's Estate Services and Liquidators 
UID:1776860612
STREET-ADDRESS:See website
POSTAL-CODE:95831
LOCALITY:Sacramento
REGION:ABBREV=CA
COUNTRY:ABBREV=US;ABBREV=USA:United States
URL;TYPE=Event Listing:https://estatesales.org/estate-sales/ca/sacramento/95831/korean-japanese-home-decor-so-2417333
PRIORITY:1
CLASS:PUBLIC
SEQUENCE:0
STATUS:CONFIRMED
TRANSP:OPAQUE
END:VEVENT
END:VCALENDAR
