BEGIN:VCALENDAR
VERSION:2.0
METHOD:PUBLISH
BEGIN:VEVENT
DTSTART:20251212T160000Z
DTEND:20251213T200000Z
LOCATION:Oklahoma City, OK 73159
TRANSP: OPAQUE
SEQUENCE:0
UID:
DTSTAMP:20260425T113144Z
SUMMARY:Charming South OKC Estate Sale
DESCRIPTION:Charming South OKC Estate Sale Vincent Estate Sales 
UID:1777138304
STREET-ADDRESS:See website
POSTAL-CODE:73159
LOCALITY:Oklahoma City
REGION:ABBREV=OK
COUNTRY:ABBREV=US;ABBREV=USA:United States
URL;TYPE=Event Listing:https://estatesales.org/estate-sales/ok/oklahoma-city/73159/charming-south-okc-estate-sale-2416446
PRIORITY:1
CLASS:PUBLIC
SEQUENCE:0
STATUS:CONFIRMED
TRANSP:OPAQUE
END:VEVENT
END:VCALENDAR
