BEGIN:VCALENDAR
VERSION:2.0
METHOD:PUBLISH
BEGIN:VEVENT
DTSTART:20241212T180000Z
DTEND:20241215T230000Z
LOCATION:Riverside, CA 92503
TRANSP: OPAQUE
SEQUENCE:0
UID:
DTSTAMP:20260420T024533Z
SUMMARY:*50% Off Sunday Car Auctions
DESCRIPTION:*50% Off Sunday Car Auctions Diamond Heirlooms Estate Sales & Consulting  LLC 
UID:1776674733
STREET-ADDRESS:See website
POSTAL-CODE:92503
LOCALITY:Riverside
REGION:ABBREV=CA
COUNTRY:ABBREV=US;ABBREV=USA:United States
URL;TYPE=Event Listing:https://estatesales.org/estate-sales/ca/riverside/92503/50-off-sunday-car-auctions-2351737
PRIORITY:1
CLASS:PUBLIC
SEQUENCE:0
STATUS:CONFIRMED
TRANSP:OPAQUE
END:VEVENT
END:VCALENDAR
