BEGIN:VCALENDAR
VERSION:2.0
METHOD:PUBLISH
BEGIN:VEVENT
DTSTART:20191212T170000Z
DTEND:20191215T210000Z
LOCATION:Chicago, IL 60645
TRANSP: OPAQUE
SEQUENCE:0
UID:
DTSTAMP:20260422T095252Z
SUMMARY:Ampersand Estate Sale in Chicago, IL. December 12, 13 & 15, 2019
DESCRIPTION:Ampersand Estate Sale in Chicago, IL. December 12, 13 & 15, 2019 Ampersand Estate Sales 
UID:1776873172
STREET-ADDRESS:See website
POSTAL-CODE:60645
LOCALITY:Chicago
REGION:ABBREV=IL
COUNTRY:ABBREV=US;ABBREV=USA:United States
URL;TYPE=Event Listing:https://estatesales.org/estate-sales/il/chicago/60645/ampersand-estate-sale-in-chicago-1741003
PRIORITY:1
CLASS:PUBLIC
SEQUENCE:0
STATUS:CONFIRMED
TRANSP:OPAQUE
END:VEVENT
END:VCALENDAR
