BEGIN:VCALENDAR
VERSION:2.0
METHOD:PUBLISH
BEGIN:VEVENT
DTSTART:20251211T180000Z
DTEND:20251213T230000Z
LOCATION:Redondo Beach, CA 90277
TRANSP: OPAQUE
SEQUENCE:0
UID:
DTSTAMP:20260422T030743Z
SUMMARY:Atezada Oceanview Treasures
DESCRIPTION:Atezada Oceanview Treasures Diamond Heirlooms Estate Sales & Consulting  LLC 
UID:1776848863
STREET-ADDRESS:See website
POSTAL-CODE:90277
LOCALITY:Redondo Beach
REGION:ABBREV=CA
COUNTRY:ABBREV=US;ABBREV=USA:United States
URL;TYPE=Event Listing:https://estatesales.org/estate-sales/ca/redondo-beach/90277/atezada-oceanview-treasures-2416949
PRIORITY:1
CLASS:PUBLIC
SEQUENCE:0
STATUS:CONFIRMED
TRANSP:OPAQUE
END:VEVENT
END:VCALENDAR
