BEGIN:VCALENDAR
VERSION:2.0
METHOD:PUBLISH
BEGIN:VEVENT
DTSTART:20251211T143000Z
DTEND:20251213T200000Z
LOCATION:Mckinney, TX 75072
TRANSP: OPAQUE
SEQUENCE:0
UID:
DTSTAMP:20260425T101200Z
SUMMARY:50 % off - Come out to McKinney - by Brookwood Estate Sales
DESCRIPTION:50 % off - Come out to McKinney - by Brookwood Estate Sales Brookwood Estate Sales 
UID:1777133520
STREET-ADDRESS:See website
POSTAL-CODE:75072
LOCALITY:Mckinney
REGION:ABBREV=TX
COUNTRY:ABBREV=US;ABBREV=USA:United States
URL;TYPE=Event Listing:https://estatesales.org/estate-sales/tx/mckinney/75072/50-off-come-out-to-2415495
PRIORITY:1
CLASS:PUBLIC
SEQUENCE:0
STATUS:CONFIRMED
TRANSP:OPAQUE
END:VEVENT
END:VCALENDAR
