BEGIN:VCALENDAR
VERSION:2.0
METHOD:PUBLISH
BEGIN:VEVENT
DTSTART:20251211T170000Z
DTEND:20251213T220000Z
LOCATION:Danville, CA 94526
TRANSP: OPAQUE
SEQUENCE:0
UID:
DTSTAMP:20260419T054017Z
SUMMARY:Estate Sale in Danville Ca, by Horizons LLC
DESCRIPTION:Estate Sale in Danville Ca, by Horizons LLC Horizons Estate Sales LLC 
UID:1776598817
STREET-ADDRESS:See website
POSTAL-CODE:94526
LOCALITY:Danville
REGION:ABBREV=CA
COUNTRY:ABBREV=US;ABBREV=USA:United States
URL;TYPE=Event Listing:https://estatesales.org/estate-sales/ca/danville/94526/estate-sale-in-danville-ca-2417104
PRIORITY:1
CLASS:PUBLIC
SEQUENCE:0
STATUS:CONFIRMED
TRANSP:OPAQUE
END:VEVENT
END:VCALENDAR
