BEGIN:VCALENDAR
VERSION:2.0
METHOD:PUBLISH
BEGIN:VEVENT
DTSTART:20211211T130000Z
DTEND:20211212T200000Z
LOCATION:Falls Church, VA 22042
TRANSP: OPAQUE
SEQUENCE:0
UID:
DTSTAMP:20260423T121655Z
SUMMARY:Collectors Extravaganza Falls Church
DESCRIPTION:Collectors Extravaganza Falls Church Dixie Charm Estate Sales 
UID:1776968215
STREET-ADDRESS:See website
POSTAL-CODE:22042
LOCALITY:Falls Church
REGION:ABBREV=VA
COUNTRY:ABBREV=US;ABBREV=USA:United States
URL;TYPE=Event Listing:https://estatesales.org/estate-sales/va/falls-church/22042/collectors-extravaganza-falls-church-1988277
PRIORITY:1
CLASS:PUBLIC
SEQUENCE:0
STATUS:CONFIRMED
TRANSP:OPAQUE
END:VEVENT
END:VCALENDAR
