BEGIN:VCALENDAR
VERSION:2.0
METHOD:PUBLISH
BEGIN:VEVENT
DTSTART:20211211T150000Z
DTEND:20211212T200000Z
LOCATION:Queen Creek, AZ 85140
TRANSP: OPAQUE
SEQUENCE:0
UID:
DTSTAMP:20260419T195101Z
SUMMARY:San Tan Valley Estate Sale
DESCRIPTION:San Tan Valley Estate Sale Arizona Finds 
UID:1776649861
STREET-ADDRESS:See website
POSTAL-CODE:85140
LOCALITY:Queen Creek
REGION:ABBREV=AZ
COUNTRY:ABBREV=US;ABBREV=USA:United States
URL;TYPE=Event Listing:https://estatesales.org/estate-sales/az/san-tan-valley/85140/san-tan-valley-estate-sale-1986753
PRIORITY:1
CLASS:PUBLIC
SEQUENCE:0
STATUS:CONFIRMED
TRANSP:OPAQUE
END:VEVENT
END:VCALENDAR
