BEGIN:VCALENDAR
VERSION:2.0
METHOD:PUBLISH
BEGIN:VEVENT
DTSTART:20191211T150000Z
DTEND:20191211T190000Z
LOCATION:Annapolis, MD 21403
TRANSP: OPAQUE
SEQUENCE:0
UID:
DTSTAMP:20260420T183917Z
SUMMARY:70% OFF12/11/19 Contemporary Elegance, Writer/Illustrator/Toy Maker Annapolis Bay Ridge Packed!
DESCRIPTION:70% OFF12/11/19 Contemporary Elegance, Writer/Illustrator/Toy Maker Annapolis Bay Ridge Packed! AnS Products Estate Sales 
UID:1776731957
STREET-ADDRESS:See website
POSTAL-CODE:21403
LOCALITY:Annapolis
REGION:ABBREV=MD
COUNTRY:ABBREV=US;ABBREV=USA:United States
URL;TYPE=Event Listing:https://estatesales.org/estate-sales/md/annapolis/21403/70-off121119-contemporary-elegance-writerillustratortoy-1748917
PRIORITY:1
CLASS:PUBLIC
SEQUENCE:0
STATUS:CONFIRMED
TRANSP:OPAQUE
END:VEVENT
END:VCALENDAR
