BEGIN:VCALENDAR
VERSION:2.0
METHOD:PUBLISH
BEGIN:VEVENT
DTSTART:20191211T230000Z
DTEND:20191212T045900Z
LOCATION:Dupo, IL 62239
TRANSP: OPAQUE
SEQUENCE:0
UID:
DTSTAMP:20260420T162655Z
SUMMARY:Premium Multiple Estate Auction
DESCRIPTION:Premium Multiple Estate Auction St. Louis Estate Sales. 
UID:1776724015
STREET-ADDRESS:See website
POSTAL-CODE:62239
LOCALITY:Dupo
REGION:ABBREV=IL
COUNTRY:ABBREV=US;ABBREV=USA:United States
URL;TYPE=Event Listing:https://estatesales.org/estate-sales/il/dupo/62239/premium-multiple-estate-auction-1739349
PRIORITY:1
CLASS:PUBLIC
SEQUENCE:0
STATUS:CONFIRMED
TRANSP:OPAQUE
END:VEVENT
END:VCALENDAR
