BEGIN:VCALENDAR
VERSION:2.0
METHOD:PUBLISH
BEGIN:VEVENT
DTSTART:20171211T230000Z
DTEND:20171212T020000Z
LOCATION:Watertown, WI 53094
TRANSP: OPAQUE
SEQUENCE:0
UID:
DTSTAMP:20260422T025651Z
SUMMARY:Monday December 11th, 2017 at 5:00 pm. 
DESCRIPTION:Monday December 11th, 2017 at 5:00 pm.  Premium Estates 
UID:1776848211
STREET-ADDRESS:See website
POSTAL-CODE:53094
LOCALITY:Watertown
REGION:ABBREV=WI
COUNTRY:ABBREV=US;ABBREV=USA:United States
URL;TYPE=Event Listing:https://estatesales.org/estate-sales/wi/watertown/53094/monday-december-11th-2017-at-1462785
PRIORITY:1
CLASS:PUBLIC
SEQUENCE:0
STATUS:CONFIRMED
TRANSP:OPAQUE
END:VEVENT
END:VCALENDAR
