BEGIN:VCALENDAR
VERSION:2.0
METHOD:PUBLISH
BEGIN:VEVENT
DTSTART:20151211T060000Z
DTEND:20151215T003000Z
LOCATION:Osseo, MN 55311
TRANSP: OPAQUE
SEQUENCE:0
UID:
DTSTAMP:20260419T201355Z
SUMMARY:Whiteford Online Estate Auction RARE Exclusive Diamonds & Gold Jewelry Estate Sale With Appraisals. Over $80,000 
DESCRIPTION:Whiteford Online Estate Auction RARE Exclusive Diamonds & Gold Jewelry Estate Sale With Appraisals. Over $80,000  Nopa Trucking LLC 
UID:1776651235
STREET-ADDRESS:See website
POSTAL-CODE:55311
LOCALITY:Osseo
REGION:ABBREV=MN
COUNTRY:ABBREV=US;ABBREV=USA:United States
URL;TYPE=Event Listing:https://estatesales.org/estate-sales/mn/osseo/55311/whiteford-online-estate-auction-rare-742539
PRIORITY:1
CLASS:PUBLIC
SEQUENCE:0
STATUS:CONFIRMED
TRANSP:OPAQUE
END:VEVENT
END:VCALENDAR
