BEGIN:VCALENDAR
VERSION:2.0
METHOD:PUBLISH
BEGIN:VEVENT
DTSTART:20241210T150000Z
DTEND:20241211T210000Z
LOCATION:Chandler, AZ 85248
TRANSP: OPAQUE
SEQUENCE:0
UID:
DTSTAMP:20260419T195205Z
SUMMARY:Sun Lakes Estate Sale - Tues -Wed - FULL HOUSE
DESCRIPTION:Sun Lakes Estate Sale - Tues -Wed - FULL HOUSE Arizona Finds 
UID:1776649925
STREET-ADDRESS:See website
POSTAL-CODE:85248
LOCALITY:Chandler
REGION:ABBREV=AZ
COUNTRY:ABBREV=US;ABBREV=USA:United States
URL;TYPE=Event Listing:https://estatesales.org/estate-sales/az/sun-lakes/85248/sun-lakes-estate-sale-tues-2352082
PRIORITY:1
CLASS:PUBLIC
SEQUENCE:0
STATUS:CONFIRMED
TRANSP:OPAQUE
END:VEVENT
END:VCALENDAR
