BEGIN:VCALENDAR
VERSION:2.0
METHOD:PUBLISH
BEGIN:VEVENT
DTSTART:20221210T140000Z
DTEND:20221211T180000Z
LOCATION:Rogers, AR 72756
TRANSP: OPAQUE
SEQUENCE:0
UID:
DTSTAMP:20260423T131058Z
SUMMARY:MCM AND PRIMITIVE EXTRAVAGANZA!]
DESCRIPTION:MCM AND PRIMITIVE EXTRAVAGANZA!] Bella Vista Estate Sales and Service 
UID:1776971458
STREET-ADDRESS:See website
POSTAL-CODE:72756
LOCALITY:Rogers
REGION:ABBREV=AR
COUNTRY:ABBREV=US;ABBREV=USA:United States
URL;TYPE=Event Listing:https://estatesales.org/estate-sales/ar/rogers/72756/mcm-and-primitive-extravaganza-2129775
PRIORITY:1
CLASS:PUBLIC
SEQUENCE:0
STATUS:CONFIRMED
TRANSP:OPAQUE
END:VEVENT
END:VCALENDAR
