BEGIN:VCALENDAR
VERSION:2.0
METHOD:PUBLISH
BEGIN:VEVENT
DTSTART:20211210T140000Z
DTEND:20211212T210000Z
LOCATION:White Plains, NY 10605
TRANSP: OPAQUE
SEQUENCE:0
UID:
DTSTAMP:20260422T024650Z
SUMMARY:Treasure Hunting in White Plains with Hudson Estate Sales
DESCRIPTION:Treasure Hunting in White Plains with Hudson Estate Sales Hudson Estate Sales, LLC 
UID:1776847610
STREET-ADDRESS:See website
POSTAL-CODE:10605
LOCALITY:White Plains
REGION:ABBREV=NY
COUNTRY:ABBREV=US;ABBREV=USA:United States
URL;TYPE=Event Listing:https://estatesales.org/estate-sales/ny/white-plains/10605/treasure-hunting-in-white-plains-1990525
PRIORITY:1
CLASS:PUBLIC
SEQUENCE:0
STATUS:CONFIRMED
TRANSP:OPAQUE
END:VEVENT
END:VCALENDAR
