BEGIN:VCALENDAR
VERSION:2.0
METHOD:PUBLISH
BEGIN:VEVENT
DTSTART:20201210T180000Z
DTEND:20201213T210000Z
LOCATION:Tucson, AZ 85713
TRANSP: OPAQUE
SEQUENCE:0
UID:
DTSTAMP:20260424T011602Z
SUMMARY:520 Estate Things December Liquidation Sale
DESCRIPTION:520 Estate Things December Liquidation Sale 520 Estate Things LLC 
UID:1777014962
STREET-ADDRESS:See website
POSTAL-CODE:85713
LOCALITY:Tucson
REGION:ABBREV=AZ
COUNTRY:ABBREV=US;ABBREV=USA:United States
URL;TYPE=Event Listing:https://estatesales.org/estate-sales/az/tucson/85713/520-estate-things-december-liquidation-1855451
PRIORITY:1
CLASS:PUBLIC
SEQUENCE:0
STATUS:CONFIRMED
TRANSP:OPAQUE
END:VEVENT
END:VCALENDAR
