BEGIN:VCALENDAR
VERSION:2.0
METHOD:PUBLISH
BEGIN:VEVENT
DTSTART:20161210T140000Z
DTEND:20161210T210000Z
LOCATION:Dallas, TX 75209
TRANSP: OPAQUE
SEQUENCE:0
UID:
DTSTAMP:20260420T105217Z
SUMMARY:Wonderful Greenway Parks One Day Sale
DESCRIPTION:Wonderful Greenway Parks One Day Sale Coulter's Collectables 
UID:1776703937
STREET-ADDRESS:See website
POSTAL-CODE:75209
LOCALITY:Dallas
REGION:ABBREV=TX
COUNTRY:ABBREV=US;ABBREV=USA:United States
URL;TYPE=Event Listing:https://estatesales.org/estate-sales/tx/dallas/75209/wonderful-greenway-parks-one-day-1043571
PRIORITY:1
CLASS:PUBLIC
SEQUENCE:0
STATUS:CONFIRMED
TRANSP:OPAQUE
END:VEVENT
END:VCALENDAR
