BEGIN:VCALENDAR
VERSION:2.0
METHOD:PUBLISH
BEGIN:VEVENT
DTSTART:20151210T150000Z
DTEND:20151212T200000Z
LOCATION:Ypsilanti, MI 48198
TRANSP: OPAQUE
SEQUENCE:0
UID:
DTSTAMP:20260424T011603Z
SUMMARY:Super Superior Township Estate Sale!
DESCRIPTION:Super Superior Township Estate Sale! TLC Premiere Estate Sales, LLC 
UID:1777014963
STREET-ADDRESS:See website
POSTAL-CODE:48198
LOCALITY:Ypsilanti
REGION:ABBREV=MI
COUNTRY:ABBREV=US;ABBREV=USA:United States
URL;TYPE=Event Listing:https://estatesales.org/estate-sales/mi/ypsilanti/48198/super-superior-township-estate-sale-738249
PRIORITY:1
CLASS:PUBLIC
SEQUENCE:0
STATUS:CONFIRMED
TRANSP:OPAQUE
END:VEVENT
END:VCALENDAR
