BEGIN:VCALENDAR
VERSION:2.0
METHOD:PUBLISH
BEGIN:VEVENT
DTSTART:20231209T150000Z
DTEND:20231209T210000Z
LOCATION:Kettering, OH 45440
TRANSP: OPAQUE
SEQUENCE:0
UID:
DTSTAMP:20260421T151903Z
SUMMARY:Estate Warehouse Holiday Plus Liquidation
DESCRIPTION:Estate Warehouse Holiday Plus Liquidation Helton Estate Sales 
UID:1776806343
STREET-ADDRESS:See website
POSTAL-CODE:45440
LOCALITY:Kettering
REGION:ABBREV=OH
COUNTRY:ABBREV=US;ABBREV=USA:United States
URL;TYPE=Event Listing:https://estatesales.org/estate-sales/oh/kettering/45440/estate-warehouse-holiday-plus-liquidation-2264211
PRIORITY:1
CLASS:PUBLIC
SEQUENCE:0
STATUS:CONFIRMED
TRANSP:OPAQUE
END:VEVENT
END:VCALENDAR
