BEGIN:VCALENDAR
VERSION:2.0
METHOD:PUBLISH
BEGIN:VEVENT
DTSTART:20231209T170000Z
DTEND:20231210T230000Z
LOCATION:Thousand Oaks, CA 91320
TRANSP: OPAQUE
SEQUENCE:0
UID:
DTSTAMP:20260420T044103Z
SUMMARY:Discount Sunday Newbury Park Estate Sale
DESCRIPTION:Discount Sunday Newbury Park Estate Sale Hidden Treasure Estate Sales 
UID:1776681663
STREET-ADDRESS:See website
POSTAL-CODE:91320
LOCALITY:Thousand Oaks
REGION:ABBREV=CA
COUNTRY:ABBREV=US;ABBREV=USA:United States
URL;TYPE=Event Listing:https://estatesales.org/estate-sales/ca/thousand-oaks/91320/discount-sunday-newbury-park-estate-2262749
PRIORITY:1
CLASS:PUBLIC
SEQUENCE:0
STATUS:CONFIRMED
TRANSP:OPAQUE
END:VEVENT
END:VCALENDAR
