BEGIN:VCALENDAR
VERSION:2.0
METHOD:PUBLISH
BEGIN:VEVENT
DTSTART:20231209T170000Z
DTEND:20231210T220000Z
LOCATION:Encino, CA 91316
TRANSP: OPAQUE
SEQUENCE:0
UID:
DTSTAMP:20260424T093849Z
SUMMARY:50% off Sunday!- Grasons Co City of Angels Estate Sale, Time Warp in Lake Encino
DESCRIPTION:50% off Sunday!- Grasons Co City of Angels Estate Sale, Time Warp in Lake Encino Grasons Co City of Angels 
UID:1777045129
STREET-ADDRESS:See website
POSTAL-CODE:91316
LOCALITY:Encino
REGION:ABBREV=CA
COUNTRY:ABBREV=US;ABBREV=USA:United States
URL;TYPE=Event Listing:https://estatesales.org/estate-sales/ca/encino/91316/grasons-co-city-of-angels-2262967
PRIORITY:1
CLASS:PUBLIC
SEQUENCE:0
STATUS:CONFIRMED
TRANSP:OPAQUE
END:VEVENT
END:VCALENDAR
