BEGIN:VCALENDAR
VERSION:2.0
METHOD:PUBLISH
BEGIN:VEVENT
DTSTART:20231209T130000Z
DTEND:20231210T200000Z
LOCATION:Jackson, MO 63755
TRANSP: OPAQUE
SEQUENCE:0
UID:
DTSTAMP:20260419T163830Z
SUMMARY:Jackson, MO Furniture, household, collectibles- Clean contents!
DESCRIPTION:Jackson, MO Furniture, household, collectibles- Clean contents! Lizzy Lou Estate Sales, LLC 
UID:1776638310
STREET-ADDRESS:See website
POSTAL-CODE:63755
LOCALITY:Jackson
REGION:ABBREV=MO
COUNTRY:ABBREV=US;ABBREV=USA:United States
URL;TYPE=Event Listing:https://estatesales.org/estate-sales/mo/jackson/63755/jackson-mo-furniture-household-collectibles-2262025
PRIORITY:1
CLASS:PUBLIC
SEQUENCE:0
STATUS:CONFIRMED
TRANSP:OPAQUE
END:VEVENT
END:VCALENDAR
