BEGIN:VCALENDAR
VERSION:2.0
METHOD:PUBLISH
BEGIN:VEVENT
DTSTART:20221209T140000Z
DTEND:20221211T190000Z
LOCATION:Verplanck, NY 10596
TRANSP: OPAQUE
SEQUENCE:0
UID:
DTSTAMP:20260422T024554Z
SUMMARY:Huson Estate Sales is Going for Baroque
DESCRIPTION:Huson Estate Sales is Going for Baroque Hudson Estate Sales, LLC 
UID:1776847554
STREET-ADDRESS:See website
POSTAL-CODE:10596
LOCALITY:Verplanck
REGION:ABBREV=NY
COUNTRY:ABBREV=US;ABBREV=USA:United States
URL;TYPE=Event Listing:https://estatesales.org/estate-sales/ny/verplanck/10596/huson-estate-sales-is-going-2127251
PRIORITY:1
CLASS:PUBLIC
SEQUENCE:0
STATUS:CONFIRMED
TRANSP:OPAQUE
END:VEVENT
END:VCALENDAR
