BEGIN:VCALENDAR
VERSION:2.0
METHOD:PUBLISH
BEGIN:VEVENT
DTSTART:20191210T055100Z
DTEND:20191220T060000Z
LOCATION:Oceanside, CA 92054
TRANSP: OPAQUE
SEQUENCE:0
UID:
DTSTAMP:20260419T064226Z
SUMMARY:Multiple Estates Featuring Artwork From Robert Motherwell, Ellsworth Kelly, Silver, Rugs, Furniture
DESCRIPTION:Multiple Estates Featuring Artwork From Robert Motherwell, Ellsworth Kelly, Silver, Rugs, Furniture Savacool and Sons Estate Liquidation & Sales 
UID:1776602546
STREET-ADDRESS:See website
POSTAL-CODE:92054
LOCALITY:Oceanside
REGION:ABBREV=CA
COUNTRY:ABBREV=US;ABBREV=USA:United States
URL;TYPE=Event Listing:https://estatesales.org/estate-sales/ca/oceanside/92054/multiple-estates-featuring-artwork-from-1749265
PRIORITY:1
CLASS:PUBLIC
SEQUENCE:0
STATUS:CONFIRMED
TRANSP:OPAQUE
END:VEVENT
END:VCALENDAR
