BEGIN:VCALENDAR
VERSION:2.0
METHOD:PUBLISH
BEGIN:VEVENT
DTSTART:20161209T140000Z
DTEND:20161210T210000Z
LOCATION:Davisburg, MI 48350
TRANSP: OPAQUE
SEQUENCE:0
UID:
DTSTAMP:20260421T055333Z
SUMMARY:Almost Everything Sale in Davisburg, Michigan
DESCRIPTION:Almost Everything Sale in Davisburg, Michigan Caring Transitions of Oakland County MI 
UID:1776772413
STREET-ADDRESS:See website
POSTAL-CODE:48350
LOCALITY:Davisburg
REGION:ABBREV=MI
COUNTRY:ABBREV=US;ABBREV=USA:United States
URL;TYPE=Event Listing:https://estatesales.org/estate-sales/mi/davisburg/48350/almost-everything-sale-in-davisburg-1043339
PRIORITY:1
CLASS:PUBLIC
SEQUENCE:0
STATUS:CONFIRMED
TRANSP:OPAQUE
END:VEVENT
END:VCALENDAR
