BEGIN:VCALENDAR
VERSION:2.0
METHOD:PUBLISH
BEGIN:VEVENT
DTSTART:20111209T160000Z
DTEND:20111211T000000Z
LOCATION:Beverly Hills, CA 90210
TRANSP: OPAQUE
SEQUENCE:0
UID:
DTSTAMP:20260420T222145Z
SUMMARY:Fine Antiques &amp; Mid Century Estate Sale in Beverly Hills!
DESCRIPTION:Fine Antiques &amp; Mid Century Estate Sale in Beverly Hills! Retro Robin Estate Sales, LLC 
UID:1776745305
STREET-ADDRESS:See website
POSTAL-CODE:90210
LOCALITY:Beverly Hills
REGION:ABBREV=CA
COUNTRY:ABBREV=US;ABBREV=USA:United States
URL;TYPE=Event Listing:https://estatesales.org/estate-sales/ca/beverly-hills/90210/fine-antiques-amp-mid-century-146808
PRIORITY:1
CLASS:PUBLIC
SEQUENCE:0
STATUS:CONFIRMED
TRANSP:OPAQUE
END:VEVENT
END:VCALENDAR
