BEGIN:VCALENDAR
VERSION:2.0
METHOD:PUBLISH
BEGIN:VEVENT
DTSTART:20231208T170000Z
DTEND:20231211T000000Z
LOCATION:Glen Ellen, CA 95442
TRANSP: OPAQUE
SEQUENCE:0
UID:
DTSTAMP:20260421T124248Z
SUMMARY:A STUNNING GLEN ELLEN SALE!
DESCRIPTION:A STUNNING GLEN ELLEN SALE! Susan Gardner Estate Sales 
UID:1776796968
STREET-ADDRESS:See website
POSTAL-CODE:95442
LOCALITY:Glen Ellen
REGION:ABBREV=CA
COUNTRY:ABBREV=US;ABBREV=USA:United States
URL;TYPE=Event Listing:https://estatesales.org/estate-sales/ca/glen-ellen/95442/a-stunning-glen-ellen-sale-2263657
PRIORITY:1
CLASS:PUBLIC
SEQUENCE:0
STATUS:CONFIRMED
TRANSP:OPAQUE
END:VEVENT
END:VCALENDAR
