BEGIN:VCALENDAR
VERSION:2.0
METHOD:PUBLISH
BEGIN:VEVENT
DTSTART:20231208T140000Z
DTEND:20231209T200000Z
LOCATION:Newton, MA 02467
TRANSP: OPAQUE
SEQUENCE:0
UID:
DTSTAMP:20260419T092021Z
SUMMARY:Exquisite Chestnut Hill Estate Sale
DESCRIPTION:Exquisite Chestnut Hill Estate Sale Estate Sale Specialists, LLC 
UID:1776612021
STREET-ADDRESS:See website
POSTAL-CODE:02467
LOCALITY:Newton
REGION:ABBREV=MA
COUNTRY:ABBREV=US;ABBREV=USA:United States
URL;TYPE=Event Listing:https://estatesales.org/estate-sales/ma/newton/02467/exquisite-chestnut-hill-estate-sale-2260381
PRIORITY:1
CLASS:PUBLIC
SEQUENCE:0
STATUS:CONFIRMED
TRANSP:OPAQUE
END:VEVENT
END:VCALENDAR
