BEGIN:VCALENDAR
VERSION:2.0
METHOD:PUBLISH
BEGIN:VEVENT
DTSTART:20211208T230000Z
DTEND:20211211T230000Z
LOCATION:Maize, KS 67101
TRANSP: OPAQUE
SEQUENCE:0
UID:
DTSTAMP:20260419T082755Z
SUMMARY:Incredible NW Wichita Sale
DESCRIPTION:Incredible NW Wichita Sale OZ Estate Sales 
UID:1776608875
STREET-ADDRESS:See website
POSTAL-CODE:67101
LOCALITY:Maize
REGION:ABBREV=KS
COUNTRY:ABBREV=US;ABBREV=USA:United States
URL;TYPE=Event Listing:https://estatesales.org/estate-sales/ks/maize/67101/incredible-nw-wichita-sale-1984811
PRIORITY:1
CLASS:PUBLIC
SEQUENCE:0
STATUS:CONFIRMED
TRANSP:OPAQUE
END:VEVENT
END:VCALENDAR
