BEGIN:VCALENDAR
VERSION:2.0
METHOD:PUBLISH
BEGIN:VEVENT
DTSTART:20171208T130000Z
DTEND:20171209T200000Z
LOCATION:Oldsmar, FL 34677
TRANSP: OPAQUE
SEQUENCE:0
UID:
DTSTAMP:20260423T130956Z
SUMMARY:Countdown to Closing Downsizing Estate Sale East Lake Woodlands
DESCRIPTION:Countdown to Closing Downsizing Estate Sale East Lake Woodlands Fifth Avenue Estate Liquidations, LLC 
UID:1776971396
STREET-ADDRESS:See website
POSTAL-CODE:34677
LOCALITY:Oldsmar
REGION:ABBREV=FL
COUNTRY:ABBREV=US;ABBREV=USA:United States
URL;TYPE=Event Listing:https://estatesales.org/estate-sales/fl/oldsmar/34677/countdown-to-closing-downsizing-estate-1459895
PRIORITY:1
CLASS:PUBLIC
SEQUENCE:0
STATUS:CONFIRMED
TRANSP:OPAQUE
END:VEVENT
END:VCALENDAR
