BEGIN:VCALENDAR
VERSION:2.0
METHOD:PUBLISH
BEGIN:VEVENT
DTSTART:20121208T160000Z
DTEND:20121209T000000Z
LOCATION:West Hollywood, CA 90046
TRANSP: OPAQUE
SEQUENCE:0
UID:
DTSTAMP:20260420T222148Z
SUMMARY:WEHO Double Whammy: Modern Furniture & Vintage Jewelry Estate Sale!
DESCRIPTION:WEHO Double Whammy: Modern Furniture & Vintage Jewelry Estate Sale! Retro Robin Estate Sales, LLC 
UID:1776745308
STREET-ADDRESS:See website
POSTAL-CODE:90046
LOCALITY:West Hollywood
REGION:ABBREV=CA
COUNTRY:ABBREV=US;ABBREV=USA:United States
URL;TYPE=Event Listing:https://estatesales.org/estate-sales/ca/west-hollywood/90046/weho-double-whammy-modern-furniture-234851
PRIORITY:1
CLASS:PUBLIC
SEQUENCE:0
STATUS:CONFIRMED
TRANSP:OPAQUE
END:VEVENT
END:VCALENDAR
