BEGIN:VCALENDAR
VERSION:2.0
METHOD:PUBLISH
BEGIN:VEVENT
DTSTART:20241207T170000Z
DTEND:20241207T220000Z
LOCATION:Studio City, CA 90068
TRANSP: OPAQUE
SEQUENCE:0
UID:
DTSTAMP:20260420T021112Z
SUMMARY:Packed! The Must See Event for Gifts and Amazing Low Prices. ONE DAY DEAL EVENT. All Must Go!
DESCRIPTION:Packed! The Must See Event for Gifts and Amazing Low Prices. ONE DAY DEAL EVENT. All Must Go! Triumphant Estate Sales of Los Angeles 
UID:1776672672
STREET-ADDRESS:See website
POSTAL-CODE:90068
LOCALITY:Studio City
REGION:ABBREV=CA
COUNTRY:ABBREV=US;ABBREV=USA:United States
URL;TYPE=Event Listing:https://estatesales.org/estate-sales/ca/studio-city/90068/packed-the-must-see-event-2352483
PRIORITY:1
CLASS:PUBLIC
SEQUENCE:0
STATUS:CONFIRMED
TRANSP:OPAQUE
END:VEVENT
END:VCALENDAR
