BEGIN:VCALENDAR
VERSION:2.0
METHOD:PUBLISH
BEGIN:VEVENT
DTSTART:20241207T150000Z
DTEND:20241208T200000Z
LOCATION:Chandler, AZ 85248
TRANSP: OPAQUE
SEQUENCE:0
UID:
DTSTAMP:20260423T071811Z
SUMMARY:Grasons 50% off - December 8 Sunday in Sun Lakes (S Arizona Ave/E Hunt Hwy)
DESCRIPTION:Grasons 50% off - December 8 Sunday in Sun Lakes (S Arizona Ave/E Hunt Hwy) Grasons of Scottsdale, AZ 
UID:1776950291
STREET-ADDRESS:See website
POSTAL-CODE:85248
LOCALITY:Chandler
REGION:ABBREV=AZ
COUNTRY:ABBREV=US;ABBREV=USA:United States
URL;TYPE=Event Listing:https://estatesales.org/estate-sales/az/sun-lakes-/85248/grasons-50-off-december-8-2352506
PRIORITY:1
CLASS:PUBLIC
SEQUENCE:0
STATUS:CONFIRMED
TRANSP:OPAQUE
END:VEVENT
END:VCALENDAR
