BEGIN:VCALENDAR
VERSION:2.0
METHOD:PUBLISH
BEGIN:VEVENT
DTSTART:20231207T150000Z
DTEND:20231210T200000Z
LOCATION:Stockbridge, GA 30281
TRANSP: OPAQUE
SEQUENCE:0
UID:
DTSTAMP:20260420T161956Z
SUMMARY:75% OFF, Round 2 - 7200 ft.Â² - Vintage - Japanese - Thailand - Rosewood - Statues - Paintings - Mid century - Teak - Handcrafted - Chinese - African - Rugs - Rugs
DESCRIPTION:75% OFF, Round 2 - 7200 ft.Â² - Vintage - Japanese - Thailand - Rosewood - Statues - Paintings - Mid century - Teak - Handcrafted - Chinese - African - Rugs - Rugs Rapid Estate Sales / Auctions 
UID:1776723596
STREET-ADDRESS:See website
POSTAL-CODE:30281
LOCALITY:Stockbridge
REGION:ABBREV=GA
COUNTRY:ABBREV=US;ABBREV=USA:United States
URL;TYPE=Event Listing:https://estatesales.org/estate-sales/ga/stockbridge/30281/75-off-round-2-7200-2256109
PRIORITY:1
CLASS:PUBLIC
SEQUENCE:0
STATUS:CONFIRMED
TRANSP:OPAQUE
END:VEVENT
END:VCALENDAR
