BEGIN:VCALENDAR
VERSION:2.0
METHOD:PUBLISH
BEGIN:VEVENT
DTSTART:20231207T150000Z
DTEND:20231209T200000Z
LOCATION:Peoria, AZ 85345
TRANSP: OPAQUE
SEQUENCE:0
UID:
DTSTAMP:20260421T071318Z
SUMMARY:***PEORIA ESTATE SALE***
DESCRIPTION:***PEORIA ESTATE SALE*** Anderson Family Estate Sales & Services, LLC 
UID:1776777198
STREET-ADDRESS:See website
POSTAL-CODE:85345
LOCALITY:Peoria
REGION:ABBREV=AZ
COUNTRY:ABBREV=US;ABBREV=USA:United States
URL;TYPE=Event Listing:https://estatesales.org/estate-sales/az/peoria/85345/peoria-estate-sale-2252153
PRIORITY:1
CLASS:PUBLIC
SEQUENCE:0
STATUS:CONFIRMED
TRANSP:OPAQUE
END:VEVENT
END:VCALENDAR
