BEGIN:VCALENDAR
VERSION:2.0
METHOD:PUBLISH
BEGIN:VEVENT
DTSTART:20221207T140000Z
DTEND:20221207T170000Z
LOCATION:Cincinnati, OH 45251
TRANSP: OPAQUE
SEQUENCE:0
UID:
DTSTAMP:20260424T115645Z
SUMMARY:COLERAIN FINAL SALE by Caring Transitions of Tri-County
DESCRIPTION:COLERAIN FINAL SALE by Caring Transitions of Tri-County CCES 
UID:1777053405
STREET-ADDRESS:See website
POSTAL-CODE:45251
LOCALITY:Cincinnati
REGION:ABBREV=OH
COUNTRY:ABBREV=US;ABBREV=USA:United States
URL;TYPE=Event Listing:https://estatesales.org/estate-sales/oh/cincinnati/45251/colerain-final-sale-by-caring-2128761
PRIORITY:1
CLASS:PUBLIC
SEQUENCE:0
STATUS:CONFIRMED
TRANSP:OPAQUE
END:VEVENT
END:VCALENDAR
