BEGIN:VCALENDAR
VERSION:2.0
METHOD:PUBLISH
BEGIN:VEVENT
DTSTART:20191207T170000Z
DTEND:20191208T230000Z
LOCATION:Studio City, CA 91604
TRANSP: OPAQUE
SEQUENCE:0
UID:
DTSTAMP:20260420T021115Z
SUMMARY:Great Deals On Pristine Unique Art, Furniture, Decor, Antiques, Asian, Mid Century, Vintage and More
DESCRIPTION:Great Deals On Pristine Unique Art, Furniture, Decor, Antiques, Asian, Mid Century, Vintage and More Triumphant Estate Sales of Los Angeles 
UID:1776672675
STREET-ADDRESS:See website
POSTAL-CODE:91604
LOCALITY:Studio City
REGION:ABBREV=CA
COUNTRY:ABBREV=US;ABBREV=USA:United States
URL;TYPE=Event Listing:https://estatesales.org/estate-sales/ca/studio-city/91604/great-deals-on-pristine-unique-1746237
PRIORITY:1
CLASS:PUBLIC
SEQUENCE:0
STATUS:CONFIRMED
TRANSP:OPAQUE
END:VEVENT
END:VCALENDAR
