BEGIN:VCALENDAR
VERSION:2.0
METHOD:PUBLISH
BEGIN:VEVENT
DTSTART:20191207T130000Z
DTEND:20191207T210000Z
LOCATION:Needham, MA 02492
TRANSP: OPAQUE
SEQUENCE:0
UID:
DTSTAMP:20260419T092710Z
SUMMARY:EXTRAORDINARY NEEDHAM ESTATE SALE - Extended Hours! - Furniture, Artwork, Kitchen, Easton Press, Rugs and More!
DESCRIPTION:EXTRAORDINARY NEEDHAM ESTATE SALE - Extended Hours! - Furniture, Artwork, Kitchen, Easton Press, Rugs and More! Exceptional Estate Sales LLC 
UID:1776612430
STREET-ADDRESS:See website
POSTAL-CODE:02492
LOCALITY:Needham
REGION:ABBREV=MA
COUNTRY:ABBREV=US;ABBREV=USA:United States
URL;TYPE=Event Listing:https://estatesales.org/estate-sales/ma/needham/02492/extraordinary-needham-estate-sale-extended-1746437
PRIORITY:1
CLASS:PUBLIC
SEQUENCE:0
STATUS:CONFIRMED
TRANSP:OPAQUE
END:VEVENT
END:VCALENDAR
