BEGIN:VCALENDAR
VERSION:2.0
METHOD:PUBLISH
BEGIN:VEVENT
DTSTART:20131207T153000Z
DTEND:20131207T200000Z
LOCATION:Riverview, FL 33578
TRANSP: OPAQUE
SEQUENCE:0
UID:
DTSTAMP:20260423T131100Z
SUMMARY:HUGE sale many different category items , vintage, retro,collectible and misecllaeous.
DESCRIPTION:HUGE sale many different category items , vintage, retro,collectible and misecllaeous. Maria Kredi 
UID:1776971460
STREET-ADDRESS:See website
POSTAL-CODE:33578
LOCALITY:Riverview
REGION:ABBREV=FL
COUNTRY:ABBREV=US;ABBREV=USA:United States
URL;TYPE=Event Listing:https://estatesales.org/estate-sales/fl/riverview/33578/huge-sale-many-different-category-344781
PRIORITY:1
CLASS:PUBLIC
SEQUENCE:0
STATUS:CONFIRMED
TRANSP:OPAQUE
END:VEVENT
END:VCALENDAR
