BEGIN:VCALENDAR
VERSION:2.0
METHOD:PUBLISH
BEGIN:VEVENT
DTSTART:20131207T130000Z
DTEND:20131207T210000Z
LOCATION:Raleigh, NC 27603
TRANSP: OPAQUE
SEQUENCE:0
UID:
DTSTAMP:20260419T082716Z
SUMMARY:LIVING ESTATE SALE
DESCRIPTION:LIVING ESTATE SALE Steve Minor Estate Liquidations and Appraisals 
UID:1776608836
STREET-ADDRESS:See website
POSTAL-CODE:27603
LOCALITY:Raleigh
REGION:ABBREV=NC
COUNTRY:ABBREV=US;ABBREV=USA:United States
URL;TYPE=Event Listing:https://estatesales.org/estate-sales/nc/raleigh/27603/living-estate-sale-344613
PRIORITY:1
CLASS:PUBLIC
SEQUENCE:0
STATUS:CONFIRMED
TRANSP:OPAQUE
END:VEVENT
END:VCALENDAR
