BEGIN:VCALENDAR
VERSION:2.0
METHOD:PUBLISH
BEGIN:VEVENT
DTSTART:20251206T180000Z
DTEND:20251208T000000Z
LOCATION:Los Angeles, CA 90049
TRANSP: OPAQUE
SEQUENCE:0
UID:
DTSTAMP:20260422T103359Z
SUMMARY:Charm & Elegance! Fun/Packed Sale! Brentwood / Los Angeles Dont miss out!
DESCRIPTION:Charm & Elegance! Fun/Packed Sale! Brentwood / Los Angeles Dont miss out!
UID:1776875639
STREET-ADDRESS:See website
POSTAL-CODE:90049
LOCALITY:Los Angeles
REGION:ABBREV=CA
COUNTRY:ABBREV=US;ABBREV=USA:United States
URL;TYPE=Event Listing:https://estatesales.org/estate-sales/ca/los-angeles/90049/charm-elegance-funpacked-sale-brentwood-2416196
PRIORITY:1
CLASS:PUBLIC
SEQUENCE:0
STATUS:CONFIRMED
TRANSP:OPAQUE
END:VEVENT
END:VCALENDAR
