BEGIN:VCALENDAR
VERSION:2.0
METHOD:PUBLISH
BEGIN:VEVENT
DTSTART:20251206T140000Z
DTEND:20251207T200000Z
LOCATION:Mahwah, NJ 07430
TRANSP: OPAQUE
SEQUENCE:0
UID:
DTSTAMP:20260423T142330Z
SUMMARY:Town & Country Estate Sales
DESCRIPTION:Town & Country Estate Sales Town & Country Estate & Moving Sales 
UID:1776975810
STREET-ADDRESS:See website
POSTAL-CODE:07430
LOCALITY:Mahwah
REGION:ABBREV=NJ
COUNTRY:ABBREV=US;ABBREV=USA:United States
URL;TYPE=Event Listing:https://estatesales.org/estate-sales/nj/mahwah/07430/town-country-estate-sales-2415717
PRIORITY:1
CLASS:PUBLIC
SEQUENCE:0
STATUS:CONFIRMED
TRANSP:OPAQUE
END:VEVENT
END:VCALENDAR
