BEGIN:VCALENDAR
VERSION:2.0
METHOD:PUBLISH
BEGIN:VEVENT
DTSTART:20251206T160000Z
DTEND:20251207T210000Z
LOCATION:Bakersfield, CA 93314
TRANSP: OPAQUE
SEQUENCE:0
UID:
DTSTAMP:20260422T120329Z
SUMMARY:Wegis/Rosedale Hwy Estate Sale w/ Huge Shop
DESCRIPTION:Wegis/Rosedale Hwy Estate Sale w/ Huge Shop Complete Estate Management 
UID:1776881009
STREET-ADDRESS:See website
POSTAL-CODE:93314
LOCALITY:Bakersfield
REGION:ABBREV=CA
COUNTRY:ABBREV=US;ABBREV=USA:United States
URL;TYPE=Event Listing:https://estatesales.org/estate-sales/ca/bakersfield/93314/wegisrosedale-hwy-estate-sale-w-2416162
PRIORITY:1
CLASS:PUBLIC
SEQUENCE:0
STATUS:CONFIRMED
TRANSP:OPAQUE
END:VEVENT
END:VCALENDAR
