BEGIN:VCALENDAR
VERSION:2.0
METHOD:PUBLISH
BEGIN:VEVENT
DTSTART:20251206T130000Z
DTEND:20251206T200000Z
LOCATION:Marlborough, CT 06447
TRANSP: OPAQUE
SEQUENCE:0
UID:
DTSTAMP:20260425T152517Z
SUMMARY:Marlborough Estate Sale - One Day Only
DESCRIPTION:Marlborough Estate Sale - One Day Only Sean Mahoney Estate Sales LLC 
UID:1777152317
STREET-ADDRESS:See website
POSTAL-CODE:06447
LOCALITY:Marlborough
REGION:ABBREV=CT
COUNTRY:ABBREV=US;ABBREV=USA:United States
URL;TYPE=Event Listing:https://estatesales.org/estate-sales/ct/marlborough-/06447/marlborough-estate-sale-one-day-2416138
PRIORITY:1
CLASS:PUBLIC
SEQUENCE:0
STATUS:CONFIRMED
TRANSP:OPAQUE
END:VEVENT
END:VCALENDAR
